BEGIN:VCALENDAR
VERSION:2.0
PRODID:-//hacksw/handcal//NONSGML v1.0//EN
CALSCALE:GREGORIAN
BEGIN:VEVENT
DTEND:20251119T143000
UID:69e9f8241a3c8
DTSTAMP:20260423T064452
LOCATION:
DESCRIPTION:http://issuesofsubstance.ca/concurrent-session-i
URI:http://issuesofsubstance.ca/concurrent-session-i
SUMMARY:Concurrent Session I
DTSTART:20251119T133000
END:VEVENT
END:VCALENDAR

    