BEGIN:VCALENDAR
VERSION:2.0
PRODID:-//hacksw/handcal//NONSGML v1.0//EN
CALSCALE:GREGORIAN
BEGIN:VEVENT
DTEND:20251119T123000
UID:69ea33aa0a0e2
DTSTAMP:20260423T105850
LOCATION:
DESCRIPTION:http://issuesofsubstance.ca/concurrent-session-h
URI:http://issuesofsubstance.ca/concurrent-session-h
SUMMARY:Concurrent Session H
DTSTART:20251119T110000
END:VEVENT
END:VCALENDAR

    