BEGIN:VCALENDAR
VERSION:2.0
PRODID:-//hacksw/handcal//NONSGML v1.0//EN
CALSCALE:GREGORIAN
BEGIN:VEVENT
DTEND:20251119T090000
UID:69ea123cada45
DTSTAMP:20260423T083612
LOCATION:Main Foyer
DESCRIPTION:http://issuesofsubstance.ca/hot-breakfast
URI:http://issuesofsubstance.ca/hot-breakfast
SUMMARY:Hot Breakfast 
DTSTART:20251119T080000
END:VEVENT
END:VCALENDAR

    