BEGIN:VCALENDAR
VERSION:2.0
PRODID:-//hacksw/handcal//NONSGML v1.0//EN
CALSCALE:GREGORIAN
BEGIN:VEVENT
DTEND:20251118T150000
UID:69ea0f0483943
DTSTAMP:20260423T082228
LOCATION:Room 608 & Room 609
DESCRIPTION:http://issuesofsubstance.ca/concurrent-session-e
URI:http://issuesofsubstance.ca/concurrent-session-e
SUMMARY:Concurrent Session E
DTSTART:20251118T133000
END:VEVENT
END:VCALENDAR

    