BEGIN:VCALENDAR
VERSION:2.0
PRODID:-//hacksw/handcal//NONSGML v1.0//EN
CALSCALE:GREGORIAN
BEGIN:VEVENT
DTEND:20251118T093000
UID:69ea11dfd9e94
DTSTAMP:20260423T083439
LOCATION:Ballroom 2 & Ballroom 3
DESCRIPTION:http://issuesofsubstance.ca/opening-remarks
URI:http://issuesofsubstance.ca/opening-remarks
SUMMARY:Opening Remarks 
DTSTART:20251118T084500
END:VEVENT
END:VCALENDAR

    