BEGIN:VCALENDAR
VERSION:2.0
PRODID:-//hacksw/handcal//NONSGML v1.0//EN
CALSCALE:GREGORIAN
BEGIN:VEVENT
DTEND:20251118T084500
UID:69ea121918575
DTSTAMP:20260423T083537
LOCATION:Main Foyer
DESCRIPTION:http://issuesofsubstance.ca/hot-breakfast-0
URI:http://issuesofsubstance.ca/hot-breakfast-0
SUMMARY:Hot Breakfast 
DTSTART:20251118T073000
END:VEVENT
END:VCALENDAR

    