BEGIN:VCALENDAR
VERSION:2.0
PRODID:-//hacksw/handcal//NONSGML v1.0//EN
CALSCALE:GREGORIAN
BEGIN:VEVENT
DTEND:20251117T123000
UID:69ea0caabf229
DTSTAMP:20260423T081226
LOCATION:
DESCRIPTION:http://issuesofsubstance.ca/concurrent-session
URI:http://issuesofsubstance.ca/concurrent-session
SUMMARY:Concurrent Session A 
DTSTART:20251117T110000
END:VEVENT
END:VCALENDAR

    