BEGIN:VCALENDAR
VERSION:2.0
PRODID:-//hacksw/handcal//NONSGML v1.0//EN
CALSCALE:GREGORIAN
BEGIN:VEVENT
DTEND:20251117T084500
UID:69e9f7e15f99d
DTSTAMP:20260423T064345
LOCATION:Main Foyer
DESCRIPTION:http://issuesofsubstance.ca/hot-breakfast-1
URI:http://issuesofsubstance.ca/hot-breakfast-1
SUMMARY:Hot Breakfast 
DTSTART:20251117T073000
END:VEVENT
END:VCALENDAR

    