BEGIN:VCALENDAR
VERSION:2.0
PRODID:-//hacksw/handcal//NONSGML v1.0//EN
CALSCALE:GREGORIAN
BEGIN:VEVENT
DTEND:20251119T143000
UID:69ea34684ad74
DTSTAMP:20260423T110200
LOCATION:
DESCRIPTION:http://issuesofsubstance.ca/fr/seance-simultanee-i
URI:http://issuesofsubstance.ca/fr/seance-simultanee-i
SUMMARY:Séance simultanée I
DTSTART:20251119T133000
END:VEVENT
END:VCALENDAR

    