BEGIN:VCALENDAR
VERSION:2.0
PRODID:-//hacksw/handcal//NONSGML v1.0//EN
CALSCALE:GREGORIAN
BEGIN:VEVENT
DTEND:20251119T123000
UID:69ea1175a522e
DTSTAMP:20260423T083253
LOCATION:
DESCRIPTION:http://issuesofsubstance.ca/fr/seance-simultanee-h
URI:http://issuesofsubstance.ca/fr/seance-simultanee-h
SUMMARY:Séance simultanée H 
DTSTART:20251119T110000
END:VEVENT
END:VCALENDAR

    