BEGIN:VCALENDAR
VERSION:2.0
PRODID:-//hacksw/handcal//NONSGML v1.0//EN
CALSCALE:GREGORIAN
BEGIN:VEVENT
DTEND:20251119T090000
UID:69ea46bd1b772
DTSTAMP:20260423T122013
LOCATION:grand hall 
DESCRIPTION:http://issuesofsubstance.ca/fr/dejeuner-chaud-1
URI:http://issuesofsubstance.ca/fr/dejeuner-chaud-1
SUMMARY:Déjeuner chaud 
DTSTART:20251119T080000
END:VEVENT
END:VCALENDAR

    