BEGIN:VCALENDAR
VERSION:2.0
PRODID:-//hacksw/handcal//NONSGML v1.0//EN
CALSCALE:GREGORIAN
BEGIN:VEVENT
DTEND:20251118T170000
UID:69ea0f5e08596
DTSTAMP:20260423T082358
LOCATION:
DESCRIPTION:http://issuesofsubstance.ca/fr/seance-simultanee-f
URI:http://issuesofsubstance.ca/fr/seance-simultanee-f
SUMMARY:Séance simultanée F
DTSTART:20251118T153000
END:VEVENT
END:VCALENDAR

    