BEGIN:VCALENDAR
VERSION:2.0
PRODID:-//hacksw/handcal//NONSGML v1.0//EN
CALSCALE:GREGORIAN
BEGIN:VEVENT
DTEND:20251118T150000
UID:69ea45c23ac62
DTSTAMP:20260423T121602
LOCATION:
DESCRIPTION:http://issuesofsubstance.ca/fr/seance-simultanee-e
URI:http://issuesofsubstance.ca/fr/seance-simultanee-e
SUMMARY:Séance simultanée E
DTSTART:20251118T133000
END:VEVENT
END:VCALENDAR

    