BEGIN:VCALENDAR
VERSION:2.0
PRODID:-//hacksw/handcal//NONSGML v1.0//EN
CALSCALE:GREGORIAN
BEGIN:VEVENT
DTEND:20251118T123000
UID:69e6585ad239f
DTSTAMP:20260420T124618
LOCATION:
DESCRIPTION:http://issuesofsubstance.ca/fr/seance-simultanee-d
URI:http://issuesofsubstance.ca/fr/seance-simultanee-d
SUMMARY:Séance simultanée D
DTSTART:20251118T110000
END:VEVENT
END:VCALENDAR

    