BEGIN:VCALENDAR
VERSION:2.0
PRODID:-//hacksw/handcal//NONSGML v1.0//EN
CALSCALE:GREGORIAN
BEGIN:VEVENT
DTEND:20251118T093000
UID:69ea86d7ebcca
DTSTAMP:20260423T165343
LOCATION:grand hall 
DESCRIPTION:http://issuesofsubstance.ca/fr/mot-douverture
URI:http://issuesofsubstance.ca/fr/mot-douverture
SUMMARY:Mot d’ouverture 
DTSTART:20251118T084500
END:VEVENT
END:VCALENDAR

    