BEGIN:VCALENDAR
VERSION:2.0
PRODID:-//hacksw/handcal//NONSGML v1.0//EN
CALSCALE:GREGORIAN
BEGIN:VEVENT
DTEND:20251118T084500
UID:69ea128421106
DTSTAMP:20260423T083724
LOCATION:grand hall 
DESCRIPTION:http://issuesofsubstance.ca/fr/dejeuner-chaud-0
URI:http://issuesofsubstance.ca/fr/dejeuner-chaud-0
SUMMARY:Déjeuner chaud
DTSTART:20251118T073000
END:VEVENT
END:VCALENDAR

    