BEGIN:VCALENDAR
VERSION:2.0
PRODID:-//hacksw/handcal//NONSGML v1.0//EN
CALSCALE:GREGORIAN
BEGIN:VEVENT
DTEND:20251117T150000
UID:69ea123c9f1ee
DTSTAMP:20260423T083612
LOCATION:
DESCRIPTION:http://issuesofsubstance.ca/fr/seance-simultanee-b
URI:http://issuesofsubstance.ca/fr/seance-simultanee-b
SUMMARY:Séance simultanée B
DTSTART:20251117T133000
END:VEVENT
END:VCALENDAR

    