BEGIN:VCALENDAR
VERSION:2.0
PRODID:-//hacksw/handcal//NONSGML v1.0//EN
CALSCALE:GREGORIAN
BEGIN:VEVENT
DTEND:20251117T123000
UID:69ea4472dd700
DTSTAMP:20260423T121026
LOCATION:
DESCRIPTION:http://issuesofsubstance.ca/fr/seance-simultanee
URI:http://issuesofsubstance.ca/fr/seance-simultanee
SUMMARY:Séance simultanée A 
DTSTART:20251117T110000
END:VEVENT
END:VCALENDAR

    