BEGIN:VCALENDAR
VERSION:2.0
PRODID:-//hacksw/handcal//NONSGML v1.0//EN
CALSCALE:GREGORIAN
BEGIN:VEVENT
DTEND:20251117T093000
UID:69ea0f7253f27
DTSTAMP:20260423T082418
LOCATION:grand hall 
DESCRIPTION:http://issuesofsubstance.ca/fr/mot-douverture-0
URI:http://issuesofsubstance.ca/fr/mot-douverture-0
SUMMARY:Mot d’ouverture
DTSTART:20251117T084500
END:VEVENT
END:VCALENDAR

    