BEGIN:VCALENDAR
VERSION:2.0
PRODID:-//hacksw/handcal//NONSGML v1.0//EN
CALSCALE:GREGORIAN
BEGIN:VEVENT
DTEND:20251117T084500
UID:69ea12843074e
DTSTAMP:20260423T083724
LOCATION:grand hall 
DESCRIPTION:http://issuesofsubstance.ca/fr/dejeuner-chaud
URI:http://issuesofsubstance.ca/fr/dejeuner-chaud
SUMMARY:Déjeuner chaud 
DTSTART:20251117T073000
END:VEVENT
END:VCALENDAR

    